BEGIN:VCALENDAR
VERSION:2.0
PRODID:-//Sabre//Sabre VObject 3.5.3//EN
CALSCALE:GREGORIAN
BEGIN:VTIMEZONE
TZID:Europe/London
BEGIN:STANDARD
TZNAME:GMT
DTSTART:19701025T020000
RRULE:FREQ=YEARLY;BYMONTH=10;BYDAY=-1SU
TZOFFSETFROM:+0100
TZOFFSETTO:+0000
END:STANDARD
BEGIN:DAYLIGHT
TZNAME:BST
DTSTART:19700329T010000
RRULE:FREQ=YEARLY;BYMONTH=3;BYDAY=-1SU
TZOFFSETFROM:+0000
TZOFFSETTO:+0100
END:DAYLIGHT
END:VTIMEZONE
BEGIN:VEVENT
UID:event_205197@stuartsingers.com
DTSTART;TZID=Europe/London:20260425T160000
DTEND;TZID=Europe/London:20260425T183000
SUMMARY:Joint Concert with the Wyndham Singers
DESCRIPTION:We are pleased to be singing with the Devon based male voice ch
 oir\, The Wyndham Singers\, once more.  The concert promises a very varie
 d programme and we shall be raising funds for The Samaritans in Gloucester
 .\n\nThe event is in Holy Trinity Church\, Minchinhampton and refreshments
  are available at the interval.\n\nClick on the Buy Tickets picture to go 
 to our online ticket sales page.\n\nFor full event details\, visit: https:
 //www.stuartsingers.com/dbpage.php?pg=view&dbase=events&id=205197
LOCATION:Holy Trinity Church\, Minchinhampton\, 
URL:https://www.stuartsingers.com/dbpage.php?pg=view&dbase=events&id=205197
END:VEVENT
END:VCALENDAR
